BEGIN:VCALENDAR
VERSION:2.0
PRODID:-//Vernon Davis Ministries - ECPv6.15.20//NONSGML v1.0//EN
CALSCALE:GREGORIAN
METHOD:PUBLISH
X-WR-CALNAME:Vernon Davis Ministries
X-ORIGINAL-URL:https://www.vernondavisministries.com
X-WR-CALDESC:Evenementen voor Vernon Davis Ministries
REFRESH-INTERVAL;VALUE=DURATION:PT1H
X-Robots-Tag:noindex
X-PUBLISHED-TTL:PT1H
BEGIN:VTIMEZONE
TZID:UTC
BEGIN:STANDARD
TZOFFSETFROM:+0000
TZOFFSETTO:+0000
TZNAME:UTC
DTSTART:20170101T000000
END:STANDARD
END:VTIMEZONE
BEGIN:VEVENT
DTSTART;TZID=UTC:20180527T103000
DTEND;TZID=UTC:20180527T103000
DTSTAMP:20260423T190223
CREATED:20180518T142916Z
LAST-MODIFIED:20180518T145148Z
UID:521-1527417000-1527417000@www.vernondavisministries.com
SUMMARY:Voice to the Nations – De Lunenhof\, Zwijndrecht – 27 mei
DESCRIPTION:[vc_row rt_row_background_width=”fullwidth” rt_row_content_width=”default” rt_row_style=”default-style” rt_row_height=”” rt_column_gaps=”” rt_row_shadows=”” rt_row_borders=”” rt_bg_effect=”classic” rt_bg_image_repeat=”repeat” rt_bg_size=”cover” rt_bg_position=”right top” rt_bg_attachment=”scroll” rt_bg_layer=”” rt_bg_video_format=”self-hosted”][vc_column width=”3/4″ rt_bg_effect=”classic” rt_bg_image_repeat=”repeat” rt_bg_size=”auto auto” rt_bg_position=”right top” rt_bg_attachment=”scroll”]\n						Voice to the Nations – De Lunenhof\, Zwijndrecht – 27 mei\n					[vc_column_text]Op zondag 27 mei hebben we een Voice to the Nations samenkomst in Zwijndrecht. De samenkomst begint om 10.30 u. \n  \nAdres De Lunenhof: \nMoermond 57\n3334 CL Zwijndrecht\nNederland[/vc_column_text][/vc_column][vc_column width=”1/4″ rt_bg_effect=”classic” rt_bg_image_repeat=”repeat” rt_bg_size=”auto auto” rt_bg_position=”right top” rt_bg_attachment=”scroll”][vc_widget_sidebar sidebar_id=”businesslounge-common-sidebar”][/vc_column][/vc_row]
URL:https://www.vernondavisministries.com/agenda-punt/voice-to-the-nations-de-lunenhof-zwijndrecht-27-mei/
LOCATION:De Lunenhof\, Moermond 57\, Zwijndrecht\, 3334 CL\, Nederland
END:VEVENT
BEGIN:VEVENT
DTSTART;TZID=UTC:20180526T133000
DTEND;TZID=UTC:20180526T180000
DTSTAMP:20260423T190223
CREATED:20180518T142453Z
LAST-MODIFIED:20180518T142648Z
UID:513-1527341400-1527357600@www.vernondavisministries.com
SUMMARY:Voice to the Nations Seminar - De Lunenhof\, Zwijndrecht – 26 mei
DESCRIPTION:[vc_row rt_row_background_width=”fullwidth” rt_row_content_width=”default” rt_row_style=”default-style” rt_row_height=”” rt_column_gaps=”” rt_row_shadows=”” rt_row_borders=”” rt_bg_effect=”classic” rt_bg_image_repeat=”repeat” rt_bg_size=”cover” rt_bg_position=”right top” rt_bg_attachment=”scroll” rt_bg_layer=”” rt_bg_video_format=”self-hosted”][vc_column width=”3/4″ rt_bg_effect=”classic” rt_bg_image_repeat=”repeat” rt_bg_size=”auto auto” rt_bg_position=”right top” rt_bg_attachment=”scroll”]\n						Voice to the Nations Seminar – De Lunenhof\, Zwijndrecht – 26 mei\n					[vc_column_text]Op zaterdag 26 mei hebben we een Voice to the Nations seminar in De Lunenhof in Zwijndrecht. Tijd: 14.00 – 18.00 u (13.30 u koffie). \n  \nAdres De Lunenhof: \nMoermond 57\n3334 CL Zwijndrecht\nNederland[/vc_column_text][/vc_column][vc_column width=”1/4″ rt_bg_effect=”classic” rt_bg_image_repeat=”repeat” rt_bg_size=”auto auto” rt_bg_position=”right top” rt_bg_attachment=”scroll”][vc_widget_sidebar sidebar_id=”businesslounge-common-sidebar”][/vc_column][/vc_row]
URL:https://www.vernondavisministries.com/agenda-punt/voice-to-the-nations-seminar-de-lunenhof-zwijndrecht-26-mei/
LOCATION:De Lunenhof\, Moermond 57\, Zwijndrecht\, 3334 CL\, Nederland
END:VEVENT
BEGIN:VEVENT
DTSTART;TZID=UTC:20180520T103000
DTEND;TZID=UTC:20180520T103000
DTSTAMP:20260423T190223
CREATED:20180518T142741Z
LAST-MODIFIED:20180518T142741Z
UID:518-1526812200-1526812200@www.vernondavisministries.com
SUMMARY:Voice to the Nations - De Lunenhof\, Zwijndrecht – 20 mei
DESCRIPTION:[vc_row rt_row_background_width=”fullwidth” rt_row_content_width=”default” rt_row_style=”default-style” rt_row_height=”” rt_column_gaps=”” rt_row_shadows=”” rt_row_borders=”” rt_bg_effect=”classic” rt_bg_image_repeat=”repeat” rt_bg_size=”cover” rt_bg_position=”right top” rt_bg_attachment=”scroll” rt_bg_layer=”” rt_bg_video_format=”self-hosted”][vc_column width=”3/4″ rt_bg_effect=”classic” rt_bg_image_repeat=”repeat” rt_bg_size=”auto auto” rt_bg_position=”right top” rt_bg_attachment=”scroll”]\n						Voice to the Nations – De Lunenhof\, Zwijndrecht – 20 mei\n					[vc_column_text]Op zondag 20 mei hebben we een Voice to the Nations samenkomst in Zwijndrecht. De dienst begint om 10.30 u. \n  \nAdres De Lunenhof: \nMoermond 57\n3334 CL Zwijndrecht\nNederland[/vc_column_text][/vc_column][vc_column width=”1/4″ rt_bg_effect=”classic” rt_bg_image_repeat=”repeat” rt_bg_size=”auto auto” rt_bg_position=”right top” rt_bg_attachment=”scroll”][vc_widget_sidebar sidebar_id=”businesslounge-common-sidebar”][/vc_column][/vc_row]
URL:https://www.vernondavisministries.com/agenda-punt/voice-to-the-nations-de-lunenhof-zwijndrecht-20-mei/
LOCATION:De Lunenhof\, Moermond 57\, Zwijndrecht\, 3334 CL\, Nederland
END:VEVENT
BEGIN:VEVENT
DTSTART;TZID=UTC:20180518T193000
DTEND;TZID=UTC:20180518T220000
DTSTAMP:20260423T190223
CREATED:20180518T141449Z
LAST-MODIFIED:20180518T142227Z
UID:506-1526671800-1526680800@www.vernondavisministries.com
SUMMARY:Voice to the Nations – De Lunenhof\, Zwijndrecht – 18 mei
DESCRIPTION:[vc_row rt_row_background_width=”fullwidth” rt_row_content_width=”default” rt_row_style=”default-style” rt_row_height=”” rt_column_gaps=”” rt_row_shadows=”” rt_row_borders=”” rt_bg_effect=”classic” rt_bg_image_repeat=”repeat” rt_bg_size=”cover” rt_bg_position=”right top” rt_bg_attachment=”scroll” rt_bg_layer=”” rt_bg_video_format=”self-hosted”][vc_column width=”3/4″ rt_bg_effect=”classic” rt_bg_image_repeat=”repeat” rt_bg_size=”auto auto” rt_bg_position=”right top” rt_bg_attachment=”scroll”]\n						Voice to the Nations\, Zwijndrecht – 18 mei\n					[vc_column_text]Op vrijdag 18 mei hebben we een Voice to the Nations samenkomst in Zwijndrecht. De dienst begint om 19.30 u. \n  \nAdres: \nMoermond 158\n3334 CP Zwijndrecht\nNederland[/vc_column_text][/vc_column][vc_column width=”1/4″ rt_bg_effect=”classic” rt_bg_image_repeat=”repeat” rt_bg_size=”auto auto” rt_bg_position=”right top” rt_bg_attachment=”scroll”][vc_widget_sidebar sidebar_id=”businesslounge-common-sidebar”][/vc_column][/vc_row]
URL:https://www.vernondavisministries.com/agenda-punt/voice-to-the-nations-de-lunenhof-zwijndrecht-18-mei/
LOCATION:Huisdienst\, Moermond 158\, Zwijndrecht\, 3334 CP\, Nederland
END:VEVENT
BEGIN:VEVENT
DTSTART;TZID=UTC:20180513T103000
DTEND;TZID=UTC:20180513T103000
DTSTAMP:20260423T190223
CREATED:20180506T092506Z
LAST-MODIFIED:20180506T092952Z
UID:489-1526207400-1526207400@www.vernondavisministries.com
SUMMARY:Voice to the Nations - De Lunenhof\, Zwijndrecht - 13 mei
DESCRIPTION:[vc_row rt_row_background_width=”fullwidth” rt_row_content_width=”default” rt_row_style=”default-style” rt_row_height=”” rt_column_gaps=”” rt_row_shadows=”” rt_row_borders=”” rt_bg_effect=”classic” rt_bg_image_repeat=”repeat” rt_bg_size=”cover” rt_bg_position=”right top” rt_bg_attachment=”scroll” rt_bg_layer=”” rt_bg_video_format=”self-hosted”][vc_column width=”3/4″ rt_bg_effect=”classic” rt_bg_image_repeat=”repeat” rt_bg_size=”auto auto” rt_bg_position=”right top” rt_bg_attachment=”scroll”]\n						Voice to the Nations – De Lunenhof\, Zwijndrecht – 13 mei\n					[vc_column_text]Op zondag 13 mei hebben we een Voice to the Nations samenkomst in de Lunenhof in Zwijndrecht. De dienst begint om 10.30 u. \n  \nAdres De Lunenhof: \nMoermond 57\n3334 CL Zwijndrecht\nNederland[/vc_column_text][/vc_column][vc_column width=”1/4″ rt_bg_effect=”classic” rt_bg_image_repeat=”repeat” rt_bg_size=”auto auto” rt_bg_position=”right top” rt_bg_attachment=”scroll”][vc_widget_sidebar sidebar_id=”businesslounge-common-sidebar”][/vc_column][/vc_row]
URL:https://www.vernondavisministries.com/agenda-punt/voice-to-the-nations-de-lunenhof-zwijndrecht-13-mei/
LOCATION:De Lunenhof\, Moermond 57\, Zwijndrecht\, 3334 CL\, Nederland
END:VEVENT
BEGIN:VEVENT
DTSTART;TZID=UTC:20180506T103000
DTEND;TZID=UTC:20180506T103000
DTSTAMP:20260423T190223
CREATED:20180429T091642Z
LAST-MODIFIED:20180429T093009Z
UID:479-1525602600-1525602600@www.vernondavisministries.com
SUMMARY:Voice to the Nations met Ans Davis - 6 mei
DESCRIPTION:[vc_row rt_row_background_width=”fullwidth” rt_row_content_width=”default” rt_row_style=”default-style” rt_row_height=”” rt_column_gaps=”” rt_row_shadows=”” rt_row_borders=”” rt_bg_effect=”classic” rt_bg_image_repeat=”repeat” rt_bg_size=”cover” rt_bg_position=”right top” rt_bg_attachment=”scroll” rt_bg_layer=”” rt_bg_video_format=”self-hosted”][vc_column width=”3/4″ rt_bg_effect=”classic” rt_bg_image_repeat=”repeat” rt_bg_size=”auto auto” rt_bg_position=”right top” rt_bg_attachment=”scroll”]\n						Voice to the Nations met Ans Davis – De Lunenhof\, Zwijndrecht – 6 mei\n					[vc_column_text]Op zondag 6 mei hebben we een Voice to the Nations samenkomst met Ans Davis in De Lunenhof in Zwijndrecht. De dienst begint om 10.30 u. \n  \nAdres ‘De Lunenhof’: \nMoermond 57\n3334 CL Zwijndrecht\nNederland[/vc_column_text][/vc_column][vc_column width=”1/4″ rt_bg_effect=”classic” rt_bg_image_repeat=”repeat” rt_bg_size=”auto auto” rt_bg_position=”right top” rt_bg_attachment=”scroll”][vc_widget_sidebar sidebar_id=”businesslounge-common-sidebar”][/vc_column][/vc_row]
URL:https://www.vernondavisministries.com/agenda-punt/voice-to-the-nations-met-ans-davis-6-mei/
LOCATION:De Lunenhof\, Moermond 57\, Zwijndrecht\, 3334 CL\, Nederland
END:VEVENT
BEGIN:VEVENT
DTSTART;VALUE=DATE:20180416
DTEND;VALUE=DATE:20180511
DTSTAMP:20260423T190223
CREATED:20180409T171351Z
LAST-MODIFIED:20180427T125805Z
UID:369-1523836800-1525996799@www.vernondavisministries.com
SUMMARY:Vernon: Zendingsreis Maleisië 2018
DESCRIPTION:[vc_row rt_row_background_width=”fullwidth” rt_row_content_width=”default” rt_row_style=”default-style” rt_row_height=”” rt_column_gaps=”” rt_row_shadows=”” rt_row_borders=”” rt_bg_effect=”classic” rt_bg_image_repeat=”repeat” rt_bg_size=”cover” rt_bg_position=”right top” rt_bg_attachment=”scroll” rt_bg_layer=”” rt_bg_video_format=”self-hosted”][vc_column width=”3/4″ rt_bg_effect=”classic” rt_bg_image_repeat=”repeat” rt_bg_size=”auto auto” rt_bg_position=”right top” rt_bg_attachment=”scroll”]\n						Vernon: Zendingsreis Maleisië 2018\n					[vc_column_text]In April gaat pastor Vernon met een team opnieuw naar Maleisië.\nWe vragen God altijd om ons te laten zien wanneer en waarheen we moeten gaan om Zijn Woord te prediken. Laten we bidden dat God alles zal leiden in Zijn juiste timing en dat de bediening vruchtbaar zal zijn. \nDe reis duurt van maandag 16 april tot donderdag 10 mei.[/vc_column_text][/vc_column][vc_column width=”1/4″ rt_bg_effect=”classic” rt_bg_image_repeat=”repeat” rt_bg_size=”auto auto” rt_bg_position=”right top” rt_bg_attachment=”scroll”][vc_widget_sidebar sidebar_id=”businesslounge-common-sidebar”][/vc_column][/vc_row]
URL:https://www.vernondavisministries.com/agenda-punt/zendingsreis-maleisie-2018/
END:VEVENT
BEGIN:VEVENT
DTSTART;TZID=UTC:20180413T193000
DTEND;TZID=UTC:20180413T193000
DTSTAMP:20260423T190223
CREATED:20180409T164557Z
LAST-MODIFIED:20180409T164557Z
UID:367-1523647800-1523647800@www.vernondavisministries.com
SUMMARY:Voice to the Nations - Moermond\, Zwijndrecht - 13 april
DESCRIPTION:[vc_row rt_row_background_width=”fullwidth” rt_row_content_width=”default” rt_row_style=”default-style” rt_row_height=”” rt_column_gaps=”” rt_row_shadows=”” rt_row_borders=”” rt_bg_effect=”classic” rt_bg_image_repeat=”repeat” rt_bg_size=”cover” rt_bg_position=”right top” rt_bg_attachment=”scroll” rt_bg_layer=”” rt_bg_video_format=”self-hosted”][vc_column width=”3/4″ rt_bg_effect=”classic” rt_bg_image_repeat=”repeat” rt_bg_size=”auto auto” rt_bg_position=”right top” rt_bg_attachment=”scroll”]\n						Voice to the Nations – Moermond\, Zwijndrecht – 13 april\n					[vc_column_text]Op vrijdag 13 april hebben we een Voice to the Nations dienst in Zwijndrecht. De dienst begint om 19.30 u. \nAdres: \nMoermond 158\n3334 CP Zwijndrecht\nNederland[/vc_column_text][/vc_column][vc_column width=”1/4″ rt_bg_effect=”classic” rt_bg_image_repeat=”repeat” rt_bg_size=”auto auto” rt_bg_position=”right top” rt_bg_attachment=”scroll”][vc_widget_sidebar sidebar_id=”businesslounge-common-sidebar”][/vc_column][/vc_row]
URL:https://www.vernondavisministries.com/agenda-punt/13-april/
LOCATION:Huisdienst\, Moermond 158\, Zwijndrecht\, 3334 CP\, Nederland
END:VEVENT
BEGIN:VEVENT
DTSTART;TZID=UTC:20180309T193000
DTEND;TZID=UTC:20180309T220000
DTSTAMP:20260423T190223
CREATED:20180303T184536Z
LAST-MODIFIED:20180327T165444Z
UID:217-1520623800-1520632800@www.vernondavisministries.com
SUMMARY:Voice to the Nations - De Lunenhof\, Zwijndrecht - 9 maart
DESCRIPTION:[vc_row rt_row_background_width=”fullwidth” rt_row_content_width=”default” rt_row_style=”default-style” rt_row_height=”” rt_column_gaps=”” rt_row_shadows=”” rt_row_borders=”” rt_bg_effect=”classic” rt_bg_image_repeat=”repeat” rt_bg_size=”cover” rt_bg_position=”right top” rt_bg_attachment=”scroll” rt_bg_layer=”” rt_bg_video_format=”self-hosted”][vc_column width=”3/4″ rt_bg_effect=”classic” rt_bg_image_repeat=”repeat” rt_bg_size=”auto auto” rt_bg_position=”right top” rt_bg_attachment=”scroll”]\n						Voice to the Nations – De Lunenhof\, Zwijndrecht – 9 maart\n					[vc_column_text]Op vrijdag 26 januari en 2\, 9 en 23 februari hebben we een Voice to the Nations dienst in Zwijndrecht. De dienst begint om 19.30 u. \nAdres: \nMoermond 158\n3334 CP Zwijndrecht\nNederland[/vc_column_text][/vc_column][vc_column width=”1/4″ rt_bg_effect=”classic” rt_bg_image_repeat=”repeat” rt_bg_size=”auto auto” rt_bg_position=”right top” rt_bg_attachment=”scroll”][vc_widget_sidebar sidebar_id=”businesslounge-common-sidebar”][/vc_column][/vc_row]
URL:https://www.vernondavisministries.com/agenda-punt/voice-to-the-nations-lunenhof-zwijndrecht-9-maart/
LOCATION:Huisdienst\, Moermond 158\, Zwijndrecht\, 3334 CP\, Nederland
END:VEVENT
BEGIN:VEVENT
DTSTART;TZID=UTC:20180304T103000
DTEND;TZID=UTC:20180304T103000
DTSTAMP:20260423T190223
CREATED:20180303T175451Z
LAST-MODIFIED:20180327T165500Z
UID:207-1520159400-1520159400@www.vernondavisministries.com
SUMMARY:Voice to the Nations - De Lunenhof\, Zwijndrecht - 4 maart
DESCRIPTION:[vc_row rt_row_background_width=”fullwidth” rt_row_content_width=”default” rt_row_style=”default-style” rt_row_height=”” rt_column_gaps=”” rt_row_shadows=”” rt_row_borders=”” rt_bg_effect=”classic” rt_bg_image_repeat=”repeat” rt_bg_size=”cover” rt_bg_position=”right top” rt_bg_attachment=”scroll” rt_bg_layer=”” rt_bg_video_format=”self-hosted”][vc_column width=”3/4″ rt_bg_effect=”classic” rt_bg_image_repeat=”repeat” rt_bg_size=”auto auto” rt_bg_position=”right top” rt_bg_attachment=”scroll”]\n						Voice to the Nations – De Lunenhof\, Zwijndrecht – 4 maart\n					[vc_column_text]Op zondag 4 maart hebben we een Voice to the Nations dienst met Vernon Davis in De Lunenhof in Zwijndrecht. De dienst begint om 10.30 u. \nAdres De Lunenhof: \nMoermond 57\n3334 CL Zwijndrecht\nNederland[/vc_column_text][/vc_column][vc_column width=”1/4″ rt_bg_effect=”classic” rt_bg_image_repeat=”repeat” rt_bg_size=”auto auto” rt_bg_position=”right top” rt_bg_attachment=”scroll”][vc_widget_sidebar sidebar_id=”businesslounge-common-sidebar”][/vc_column][/vc_row]
URL:https://www.vernondavisministries.com/agenda-punt/voice-to-the-nations-lunenhof-zwijndrecht-4-maart/
LOCATION:De Lunenhof\, Moermond 57\, Zwijndrecht\, 3334 CL\, Nederland
END:VEVENT
END:VCALENDAR